BEGIN:VCALENDAR
VERSION:2.0
PRODID:-//Grand Teton Music Festival - ECPv6.15.20//NONSGML v1.0//EN
CALSCALE:GREGORIAN
METHOD:PUBLISH
X-WR-CALNAME:Grand Teton Music Festival
X-ORIGINAL-URL:https://gtmf.org
X-WR-CALDESC:Events for Grand Teton Music Festival
REFRESH-INTERVAL;VALUE=DURATION:PT1H
X-Robots-Tag:noindex
X-PUBLISHED-TTL:PT1H
BEGIN:VTIMEZONE
TZID:America/Denver
BEGIN:DAYLIGHT
TZOFFSETFROM:-0700
TZOFFSETTO:-0600
TZNAME:MDT
DTSTART:20250309T090000
END:DAYLIGHT
BEGIN:STANDARD
TZOFFSETFROM:-0600
TZOFFSETTO:-0700
TZNAME:MST
DTSTART:20251102T080000
END:STANDARD
BEGIN:DAYLIGHT
TZOFFSETFROM:-0700
TZOFFSETTO:-0600
TZNAME:MDT
DTSTART:20260308T090000
END:DAYLIGHT
BEGIN:STANDARD
TZOFFSETFROM:-0600
TZOFFSETTO:-0700
TZNAME:MST
DTSTART:20261101T080000
END:STANDARD
BEGIN:DAYLIGHT
TZOFFSETFROM:-0700
TZOFFSETTO:-0600
TZNAME:MDT
DTSTART:20270314T090000
END:DAYLIGHT
BEGIN:STANDARD
TZOFFSETFROM:-0600
TZOFFSETTO:-0700
TZNAME:MST
DTSTART:20271107T080000
END:STANDARD
END:VTIMEZONE
BEGIN:VEVENT
DTSTART;TZID=America/Denver:20260201T150000
DTEND;TZID=America/Denver:20260201T191500
DTSTAMP:20260419T074907
CREATED:20250925T160025Z
LAST-MODIFIED:20251029T195729Z
UID:10000143-1769958000-1769973300@gtmf.org
SUMMARY:Met Opera in HD: Strauss' Arabella
DESCRIPTION:Strauss’s elegant romance brings the glamour and enchantment of 19th-century Vienna to a sumptuous production by legendary director Otto Schenk that “is as beautiful as one could hope” (The New York Times). Soprano Rachel Willis-Sørensen stars as the title heroine\, a young noblewoman in search of love on her own terms. Radiant soprano Louise Alder is her sister\, Zdenka\, and bass-baritone Tomasz Konieczny is the dashing count who sweeps Arabella off her feet. The Grand Teton Music Festival presents this live cinema transmission as part of the Met’s award-winning Live in HD series\, bringing opera to movie theaters across the globe. \nMusic by Richard Strauss\nLibretto by Hugo von Hofmannsthal
URL:https://gtmf.org/events/met-arabella
LOCATION:Center for the Arts Theater\, 240 S. Glenwood St\, Jackson\, WY\, 83001\, United States
CATEGORIES:Events at the Center,Metropolitan Opera in HD
ATTACH;FMTTYPE=image/png:https://gtmf.org/wp-content/uploads/2025/09/Arabella-Credit-Marty-Sohl-Met-Opera.png
ORGANIZER;CN="Grand Teton Music Festival":MAILTO:ticketoffice@gtmf.org
END:VEVENT
END:VCALENDAR