BEGIN:VCALENDAR
VERSION:2.0
PRODID:-//Grand Teton Music Festival - ECPv6.15.20//NONSGML v1.0//EN
CALSCALE:GREGORIAN
METHOD:PUBLISH
X-ORIGINAL-URL:https://gtmf.org
X-WR-CALDESC:Events for Grand Teton Music Festival
REFRESH-INTERVAL;VALUE=DURATION:PT1H
X-Robots-Tag:noindex
X-PUBLISHED-TTL:PT1H
BEGIN:VTIMEZONE
TZID:America/Denver
BEGIN:DAYLIGHT
TZOFFSETFROM:-0700
TZOFFSETTO:-0600
TZNAME:MDT
DTSTART:20250309T090000
END:DAYLIGHT
BEGIN:STANDARD
TZOFFSETFROM:-0600
TZOFFSETTO:-0700
TZNAME:MST
DTSTART:20251102T080000
END:STANDARD
BEGIN:DAYLIGHT
TZOFFSETFROM:-0700
TZOFFSETTO:-0600
TZNAME:MDT
DTSTART:20260308T090000
END:DAYLIGHT
BEGIN:STANDARD
TZOFFSETFROM:-0600
TZOFFSETTO:-0700
TZNAME:MST
DTSTART:20261101T080000
END:STANDARD
BEGIN:DAYLIGHT
TZOFFSETFROM:-0700
TZOFFSETTO:-0600
TZNAME:MDT
DTSTART:20270314T090000
END:DAYLIGHT
BEGIN:STANDARD
TZOFFSETFROM:-0600
TZOFFSETTO:-0700
TZNAME:MST
DTSTART:20271107T080000
END:STANDARD
END:VTIMEZONE
BEGIN:VEVENT
DTSTART;TZID=America/Denver:20260717T190000
DTEND;TZID=America/Denver:20260717T210000
DTSTAMP:20260419T125032
CREATED:20260407T150006Z
LAST-MODIFIED:20260406T224007Z
UID:10000198-1784314800-1784322000@gtmf.org
SUMMARY:Festival Orchestra: Shostakovich & Mozart's Clarinet Concerto
DESCRIPTION:Beloved Festival Orchestra member José González Granero moves from the woodwind section to the front of the stage to perform Mozart’s Clarinet Concerto\, one of the great composer’s last masterpieces. In contrast to Mozart’s meaningful late utterance are two more youthful works by important 20th century icons – a playful literary overture by American Samuel Barber\, The School for Scandal Overture\, and an incredibly precocious college graduation project by Dmitri Shostakovich\, his Symphony No. 1. \nprogram\nBarber: The School for Scandal Overture\nMozart: Clarinet Concerto\nShostakovich: Symphony No. 1 \nSir Donald Runnicles\, conductor\nJosé González Granero\, clarinet \n\nJoin us in the lobby at 6 PM for a Pre-Concert Talk\, an inside look into the music led by Stoner Family Education Curator Meaghan Heinrich. Talks are sponsored by the Goodman Family Foundation\, in memory of Roy and Barbara Goodman.
URL:https://gtmf.org/events/shostakovich-mozart-fri
LOCATION:Jackson Hole High School Auditorium\, 1910 High School Rd\, Jackson\, WY\, 83001\, United States
CATEGORIES:Festival Orchestra Series
ATTACH;FMTTYPE=image/png:https://gtmf.org/wp-content/uploads/2026/04/FO-Shostakovich-Mozarts-Clarinet-Concerto.png
ORGANIZER;CN="Grand Teton Music Festival":MAILTO:ticketoffice@gtmf.org
END:VEVENT
BEGIN:VEVENT
DTSTART;TZID=America/Denver:20260718T180000
DTEND;TZID=America/Denver:20260718T200000
DTSTAMP:20260419T125032
CREATED:20260407T150035Z
LAST-MODIFIED:20260406T224031Z
UID:10000199-1784397600-1784404800@gtmf.org
SUMMARY:Festival Orchestra: Shostakovich & Mozart's Clarinet Concerto
DESCRIPTION:Beloved Festival Orchestra member José González Granero moves from the woodwind section to the front of the stage to perform Mozart’s Clarinet Concerto\, one of the great composer’s last masterpieces. In contrast to Mozart’s meaningful late utterance are two more youthful works by important 20th century icons – a playful literary overture by American Samuel Barber\, The School for Scandal Overture\, and an incredibly precocious college graduation project by Dmitri Shostakovich\, his Symphony No. 1. \nprogram\nBarber: The School for Scandal Overture\nMozart: Clarinet Concerto\nShostakovich: Symphony No. 1 \nSir Donald Runnicles\, conductor\nJosé González Granero\, clarinet \n\nJoin us in the lobby at 5 PM for a Pre-Concert Talk\, an inside look into the music led by Stoner Family Education Curator Meaghan Heinrich. Talks are sponsored by the Goodman Family Foundation\, in memory of Roy and Barbara Goodman.
URL:https://gtmf.org/events/shostakovich-mozart-sat
LOCATION:Jackson Hole High School Auditorium\, 1910 High School Rd\, Jackson\, WY\, 83001\, United States
CATEGORIES:Festival Orchestra Series
ATTACH;FMTTYPE=image/png:https://gtmf.org/wp-content/uploads/2026/04/FO-Shostakovich-Mozarts-Clarinet-Concerto.png
ORGANIZER;CN="Grand Teton Music Festival":MAILTO:ticketoffice@gtmf.org
END:VEVENT
END:VCALENDAR